BEGIN:VCALENDAR
VERSION:2.0
PRODID:-//PAEI - ECPv5.16.4//NONSGML v1.0//EN
CALSCALE:GREGORIAN
METHOD:PUBLISH
X-ORIGINAL-URL:https://oldsite.paei.org
X-WR-CALDESC:Events for PAEI
REFRESH-INTERVAL;VALUE=DURATION:PT1H
X-Robots-Tag:noindex
X-PUBLISHED-TTL:PT1H
BEGIN:VTIMEZONE
TZID:America/Los_Angeles
BEGIN:DAYLIGHT
TZOFFSETFROM:-0800
TZOFFSETTO:-0700
TZNAME:PDT
DTSTART:20160313T100000
END:DAYLIGHT
BEGIN:STANDARD
TZOFFSETFROM:-0700
TZOFFSETTO:-0800
TZNAME:PST
DTSTART:20161106T090000
END:STANDARD
BEGIN:DAYLIGHT
TZOFFSETFROM:-0800
TZOFFSETTO:-0700
TZNAME:PDT
DTSTART:20170312T100000
END:DAYLIGHT
BEGIN:STANDARD
TZOFFSETFROM:-0700
TZOFFSETTO:-0800
TZNAME:PST
DTSTART:20171105T090000
END:STANDARD
END:VTIMEZONE
BEGIN:VEVENT
DTSTART;TZID=America/Los_Angeles:20161107T120000
DTEND;TZID=America/Los_Angeles:20161107T140000
DTSTAMP:20260420T014424
CREATED:20161019T182848Z
LAST-MODIFIED:20161019T185206Z
UID:490-1478520000-1478527200@oldsite.paei.org
SUMMARY:Brown Bag Event: Mergers\, Acquisitions & Divestments
DESCRIPTION:
URL:https://oldsite.paei.org/event/brown-bag-event-mergers-acquisitions-divestments/
LOCATION:Adobe (Aberdeen\, Almaden Tower)\, 345 Park Avenue\, San Jose\,  CA\,  95110-2704\, United States
GEO:37.3307355;-121.8942276
X-APPLE-STRUCTURED-LOCATION;VALUE=URI;X-ADDRESS=Adobe (Aberdeen Almaden Tower) 345 Park Avenue San Jose  CA  95110-2704 United States;X-APPLE-RADIUS=500;X-TITLE=345 Park Avenue:geo:-121.8942276,37.3307355
END:VEVENT
BEGIN:VEVENT
DTSTART;TZID=America/Los_Angeles:20170510T180000
DTEND;TZID=America/Los_Angeles:20170510T200000
DTSTAMP:20260420T014424
CREATED:20170412T214825Z
LAST-MODIFIED:20170412T214825Z
UID:933-1494439200-1494446400@oldsite.paei.org
SUMMARY:WIT-NC: How to Advance Your Career in Trade.
DESCRIPTION:
URL:https://oldsite.paei.org/event/wit-nc-how-to-advance-your-career-in-trade/
LOCATION:Adobe (Aberdeen\, Almaden Tower)\, 345 Park Avenue\, San Jose\,  CA\,  95110-2704\, United States
GEO:37.3307355;-121.8942276
X-APPLE-STRUCTURED-LOCATION;VALUE=URI;X-ADDRESS=Adobe (Aberdeen Almaden Tower) 345 Park Avenue San Jose  CA  95110-2704 United States;X-APPLE-RADIUS=500;X-TITLE=345 Park Avenue:geo:-121.8942276,37.3307355
END:VEVENT
END:VCALENDAR