BEGIN:VCALENDAR
VERSION:2.0
PRODID:-//PAEI - ECPv5.16.4//NONSGML v1.0//EN
CALSCALE:GREGORIAN
METHOD:PUBLISH
X-WR-CALNAME:PAEI
X-ORIGINAL-URL:https://oldsite.paei.org
X-WR-CALDESC:Events for PAEI
REFRESH-INTERVAL;VALUE=DURATION:PT1H
X-Robots-Tag:noindex
X-PUBLISHED-TTL:PT1H
BEGIN:VTIMEZONE
TZID:America/Los_Angeles
BEGIN:DAYLIGHT
TZOFFSETFROM:-0800
TZOFFSETTO:-0700
TZNAME:PDT
DTSTART:20180311T100000
END:DAYLIGHT
BEGIN:STANDARD
TZOFFSETFROM:-0700
TZOFFSETTO:-0800
TZNAME:PST
DTSTART:20181104T090000
END:STANDARD
END:VTIMEZONE
BEGIN:VEVENT
DTSTART;TZID=America/Los_Angeles:20181011T093000
DTEND;TZID=America/Los_Angeles:20181011T160000
DTSTAMP:20260420T042104
CREATED:20180924T173830Z
LAST-MODIFIED:20180924T221635Z
UID:2228-1539250200-1539273600@oldsite.paei.org
SUMMARY:Export Control Classification "Master Class"
DESCRIPTION:Speakers: \nSteve Brotherton\, Practice Leader\, Export Controls & Sanctions\, Sandler\, Travis & Rosenberg PA \nDan Fisher-Owens\, Partner at Berliner\, Corcoran & Rowe\, LLP \nKevin Wolf\, Partner at Akin Gump Strauss Hauer & Field LLP \n  \n 
URL:https://oldsite.paei.org/event/export-classification-workshop/
LOCATION:Biltmore Santa Clara\, 2151 Laurelwood Rd\, Santa Clara\, CA\, 95054
END:VEVENT
END:VCALENDAR