BEGIN:VCALENDAR
VERSION:2.0
PRODID:-//PAEI - ECPv5.16.4//NONSGML v1.0//EN
CALSCALE:GREGORIAN
METHOD:PUBLISH
X-WR-CALNAME:PAEI
X-ORIGINAL-URL:https://oldsite.paei.org
X-WR-CALDESC:Events for PAEI
REFRESH-INTERVAL;VALUE=DURATION:PT1H
X-Robots-Tag:noindex
X-PUBLISHED-TTL:PT1H
BEGIN:VTIMEZONE
TZID:America/Los_Angeles
BEGIN:DAYLIGHT
TZOFFSETFROM:-0800
TZOFFSETTO:-0700
TZNAME:PDT
DTSTART:20160313T100000
END:DAYLIGHT
BEGIN:STANDARD
TZOFFSETFROM:-0700
TZOFFSETTO:-0800
TZNAME:PST
DTSTART:20161106T090000
END:STANDARD
BEGIN:DAYLIGHT
TZOFFSETFROM:-0800
TZOFFSETTO:-0700
TZNAME:PDT
DTSTART:20170312T100000
END:DAYLIGHT
BEGIN:STANDARD
TZOFFSETFROM:-0700
TZOFFSETTO:-0800
TZNAME:PST
DTSTART:20171105T090000
END:STANDARD
BEGIN:DAYLIGHT
TZOFFSETFROM:-0800
TZOFFSETTO:-0700
TZNAME:PDT
DTSTART:20180311T100000
END:DAYLIGHT
BEGIN:STANDARD
TZOFFSETFROM:-0700
TZOFFSETTO:-0800
TZNAME:PST
DTSTART:20181104T090000
END:STANDARD
BEGIN:DAYLIGHT
TZOFFSETFROM:-0800
TZOFFSETTO:-0700
TZNAME:PDT
DTSTART:20190310T100000
END:DAYLIGHT
BEGIN:STANDARD
TZOFFSETFROM:-0700
TZOFFSETTO:-0800
TZNAME:PST
DTSTART:20191103T090000
END:STANDARD
END:VTIMEZONE
BEGIN:VEVENT
DTSTART;VALUE=DATE:20160427
DTEND;VALUE=DATE:20160428
DTSTAMP:20260420T031345
CREATED:20160415T221316Z
LAST-MODIFIED:20160415T221703Z
UID:85-1461715200-1461801599@oldsite.paei.org
SUMMARY:CBFANC: Trans Pacific Partnership (TPP)
DESCRIPTION:Trans Pacific Partnership (TPP) For Importers and Exporters\, Brokers and Forwarders
URL:https://oldsite.paei.org/event/cbfanc-trans-pacific-partnership-tpp/
LOCATION:Park Pointe Hotel\, 245 S. Airport Blvd.\, San Francisco\, CA\, United States
GEO:37.648174;-122.4044667
X-APPLE-STRUCTURED-LOCATION;VALUE=URI;X-ADDRESS=Park Pointe Hotel 245 S. Airport Blvd. San Francisco CA United States;X-APPLE-RADIUS=500;X-TITLE=245 S. Airport Blvd.:geo:-122.4044667,37.648174
END:VEVENT
BEGIN:VEVENT
DTSTART;TZID=America/Los_Angeles:20160615T080000
DTEND;TZID=America/Los_Angeles:20160615T120000
DTSTAMP:20260420T031345
CREATED:20160511T214115Z
LAST-MODIFIED:20160511T214115Z
UID:150-1465977600-1465992000@oldsite.paei.org
SUMMARY:CBFANC: FDA's Transition to ACE
DESCRIPTION:
URL:https://oldsite.paei.org/event/cbfanc-fdas-transition-to-ace/
LOCATION:Park Pointe Hotel\, 245 S. Airport Blvd.\, San Francisco\, CA\, United States
GEO:37.648174;-122.4044667
X-APPLE-STRUCTURED-LOCATION;VALUE=URI;X-ADDRESS=Park Pointe Hotel 245 S. Airport Blvd. San Francisco CA United States;X-APPLE-RADIUS=500;X-TITLE=245 S. Airport Blvd.:geo:-122.4044667,37.648174
END:VEVENT
BEGIN:VEVENT
DTSTART;TZID=America/Los_Angeles:20161026T080000
DTEND;TZID=America/Los_Angeles:20161026T120000
DTSTAMP:20260420T031345
CREATED:20160926T174459Z
LAST-MODIFIED:20160926T174459Z
UID:483-1477468800-1477483200@oldsite.paei.org
SUMMARY:CBFANC: CPSC & CBP Consumer Products Safety Commission
DESCRIPTION:
URL:https://oldsite.paei.org/event/cbfanc-cpsc-cbp-consumer-products-safety-commission/
LOCATION:Park Pointe Hotel\, 245 S. Airport Blvd.\, San Francisco\, CA\, United States
GEO:37.648174;-122.4044667
X-APPLE-STRUCTURED-LOCATION;VALUE=URI;X-ADDRESS=Park Pointe Hotel 245 S. Airport Blvd. San Francisco CA United States;X-APPLE-RADIUS=500;X-TITLE=245 S. Airport Blvd.:geo:-122.4044667,37.648174
END:VEVENT
BEGIN:VEVENT
DTSTART;TZID=America/Los_Angeles:20170419T083000
DTEND;TZID=America/Los_Angeles:20170419T120000
DTSTAMP:20260420T031345
CREATED:20170412T215915Z
LAST-MODIFIED:20170412T215915Z
UID:936-1492590600-1492603200@oldsite.paei.org
SUMMARY:CBFANC: Air & Ocean DAU
DESCRIPTION:
URL:https://oldsite.paei.org/event/cbfanc-air-ocean-dau/
LOCATION:Park Pointe Hotel\, 245 S. Airport Blvd.\, San Francisco\, CA\, United States
GEO:37.648174;-122.4044667
X-APPLE-STRUCTURED-LOCATION;VALUE=URI;X-ADDRESS=Park Pointe Hotel 245 S. Airport Blvd. San Francisco CA United States;X-APPLE-RADIUS=500;X-TITLE=245 S. Airport Blvd.:geo:-122.4044667,37.648174
END:VEVENT
BEGIN:VEVENT
DTSTART;TZID=America/Los_Angeles:20170927T080000
DTEND;TZID=America/Los_Angeles:20170927T120000
DTSTAMP:20260420T031345
CREATED:20170918T205421Z
LAST-MODIFIED:20170918T205421Z
UID:1406-1506499200-1506513600@oldsite.paei.org
SUMMARY:CBFANC: Broker Survey and Audits - How to be Prepared
DESCRIPTION:
URL:https://oldsite.paei.org/event/cbfanc-broker-survey-and-audits-how-to-be-prepared/
LOCATION:Park Pointe Hotel\, 245 S. Airport Blvd.\, San Francisco\, CA\, United States
GEO:37.648174;-122.4044667
X-APPLE-STRUCTURED-LOCATION;VALUE=URI;X-ADDRESS=Park Pointe Hotel 245 S. Airport Blvd. San Francisco CA United States;X-APPLE-RADIUS=500;X-TITLE=245 S. Airport Blvd.:geo:-122.4044667,37.648174
END:VEVENT
BEGIN:VEVENT
DTSTART;TZID=America/Los_Angeles:20171115T080000
DTEND;TZID=America/Los_Angeles:20171115T120000
DTSTAMP:20260420T031346
CREATED:20171019T235024Z
LAST-MODIFIED:20171019T235024Z
UID:1458-1510732800-1510747200@oldsite.paei.org
SUMMARY:CBFANC: FDA-CBP ACE Seminar
DESCRIPTION:
URL:https://oldsite.paei.org/event/cbfanc-fda-cbp-ace-seminar/
LOCATION:Park Pointe Hotel\, 245 S. Airport Blvd.\, San Francisco\, CA\, United States
GEO:37.648174;-122.4044667
X-APPLE-STRUCTURED-LOCATION;VALUE=URI;X-ADDRESS=Park Pointe Hotel 245 S. Airport Blvd. San Francisco CA United States;X-APPLE-RADIUS=500;X-TITLE=245 S. Airport Blvd.:geo:-122.4044667,37.648174
END:VEVENT
BEGIN:VEVENT
DTSTART;TZID=America/Los_Angeles:20180530T080000
DTEND;TZID=America/Los_Angeles:20180530T120000
DTSTAMP:20260420T031346
CREATED:20180516T173544Z
LAST-MODIFIED:20180516T173544Z
UID:1913-1527667200-1527681600@oldsite.paei.org
SUMMARY:CBFANC: How to Thrive in the NEW FDA Environment
DESCRIPTION:Join us for this informative seminar concerning the current environment on FDA compliance and FDA enforcement\nAgenda includes:  \n\nTimeline of U.S. FDA Regulations\nWhat is FSMA and how does it impact food safety verifications for processors and importers?\nWhat is FSVP and how do you handle the reporting requirements?\nWhat is a U.S. Agent for FDA purposes?\nHow do you check for Import Alerts?\nHow do you obtain an Accession Number?\nFDA Annual Reporting Requirements\nWhat can Brokers & Importers do to get assistance with FDA for Food and Beverages\, Medical Devices\, Drugs\, Cosmetics\, Electronics and Tobacco?
URL:https://oldsite.paei.org/event/cbfanc-how-to-thrive-in-the-new-fda-environment/
LOCATION:Park Pointe Hotel\, 245 S. Airport Blvd.\, San Francisco\, CA\, United States
GEO:37.648174;-122.4044667
X-APPLE-STRUCTURED-LOCATION;VALUE=URI;X-ADDRESS=Park Pointe Hotel 245 S. Airport Blvd. San Francisco CA United States;X-APPLE-RADIUS=500;X-TITLE=245 S. Airport Blvd.:geo:-122.4044667,37.648174
END:VEVENT
BEGIN:VEVENT
DTSTART;TZID=America/Los_Angeles:20180627T080000
DTEND;TZID=America/Los_Angeles:20180627T120000
DTSTAMP:20260420T031346
CREATED:20180620T175539Z
LAST-MODIFIED:20180620T175539Z
UID:1948-1530086400-1530100800@oldsite.paei.org
SUMMARY:CBFANC: What Happens When Products Require Laboratory Analysis
DESCRIPTION:As a follow-up on FDA issues\, join us for this informative seminar concerning what happens when you must have your products tested prior to or upon cargo arrival.\nAgenda includes:  \n\nThe Evolution of Laboratory Testing\nForeign vs Local laboratories – How do they differ? How are they the same?\nFDA Detained Products\nNutritional Labeling\nShelf-Life/Microbiological Testing\nHACCP/Food Safety with our Registered Safe Quality Foods Consultant\, Dr. Nari Nayini.\nDo you need pre-certification for your products?\nWhat Brokers & Importers can do to get assistance with FDA for Food and Beverages\, Medical Devices\, Drugs\, Cosmetics\, Electronics and Tobacco
URL:https://oldsite.paei.org/event/cbfanc-what-happens-when-products-require-laboratory-analysis/
LOCATION:Park Pointe Hotel\, 245 S. Airport Blvd.\, San Francisco\, CA\, United States
GEO:37.648174;-122.4044667
X-APPLE-STRUCTURED-LOCATION;VALUE=URI;X-ADDRESS=Park Pointe Hotel 245 S. Airport Blvd. San Francisco CA United States;X-APPLE-RADIUS=500;X-TITLE=245 S. Airport Blvd.:geo:-122.4044667,37.648174
END:VEVENT
BEGIN:VEVENT
DTSTART;TZID=America/Los_Angeles:20190320T080000
DTEND;TZID=America/Los_Angeles:20190320T120000
DTSTAMP:20260420T031346
CREATED:20190305T193700Z
LAST-MODIFIED:20190402T211557Z
UID:2537-1553068800-1553083200@oldsite.paei.org
SUMMARY:CBFANC Education Event: Trade Policy and Section 301 Tariffs
DESCRIPTION:
URL:https://oldsite.paei.org/event/cbfanc-education-event-trade-policy-and-section-301-tariffs/
LOCATION:Park Pointe Hotel\, 245 S. Airport Blvd.\, San Francisco\, CA\, United States
GEO:37.648174;-122.4044667
X-APPLE-STRUCTURED-LOCATION;VALUE=URI;X-ADDRESS=Park Pointe Hotel 245 S. Airport Blvd. San Francisco CA United States;X-APPLE-RADIUS=500;X-TITLE=245 S. Airport Blvd.:geo:-122.4044667,37.648174
END:VEVENT
BEGIN:VEVENT
DTSTART;TZID=America/Los_Angeles:20190417T080000
DTEND;TZID=America/Los_Angeles:20190417T120000
DTSTAMP:20260420T031346
CREATED:20190402T212010Z
LAST-MODIFIED:20190402T212010Z
UID:2596-1555488000-1555502400@oldsite.paei.org
SUMMARY:CBFANC Education Event: Free Trade Agreements\, Audits & Rules of Origin
DESCRIPTION:
URL:https://oldsite.paei.org/event/cbfanc-education-event-free-trade-agreements-audits-rules-of-origin/
LOCATION:Park Pointe Hotel\, 245 S. Airport Blvd.\, San Francisco\, CA\, United States
GEO:37.648174;-122.4044667
X-APPLE-STRUCTURED-LOCATION;VALUE=URI;X-ADDRESS=Park Pointe Hotel 245 S. Airport Blvd. San Francisco CA United States;X-APPLE-RADIUS=500;X-TITLE=245 S. Airport Blvd.:geo:-122.4044667,37.648174
END:VEVENT
END:VCALENDAR