BEGIN:VCALENDAR
VERSION:2.0
PRODID:-//PAEI - ECPv5.16.4//NONSGML v1.0//EN
CALSCALE:GREGORIAN
METHOD:PUBLISH
X-WR-CALNAME:PAEI
X-ORIGINAL-URL:https://oldsite.paei.org
X-WR-CALDESC:Events for PAEI
REFRESH-INTERVAL;VALUE=DURATION:PT1H
X-Robots-Tag:noindex
X-PUBLISHED-TTL:PT1H
BEGIN:VTIMEZONE
TZID:America/Los_Angeles
BEGIN:DAYLIGHT
TZOFFSETFROM:-0800
TZOFFSETTO:-0700
TZNAME:PDT
DTSTART:20160313T100000
END:DAYLIGHT
BEGIN:STANDARD
TZOFFSETFROM:-0700
TZOFFSETTO:-0800
TZNAME:PST
DTSTART:20161106T090000
END:STANDARD
END:VTIMEZONE
BEGIN:VEVENT
DTSTART;VALUE=DATE:20160420
DTEND;VALUE=DATE:20160422
DTSTAMP:20260420T070414
CREATED:20160415T220701Z
LAST-MODIFIED:20160415T221611Z
UID:83-1461110400-1461283199@oldsite.paei.org
SUMMARY:BIS: The 11th Annual Export Control Forum
DESCRIPTION:The Bureau of Industry and Security\nWestern Regional Office\nCosponsored by:\nThe Professional Association of Exporters and Importers (PAEI)\nPresents\nThe 11th Annual Export Control Forum
URL:https://oldsite.paei.org/event/bis-the-11th-annual-export-control-forum/
LOCATION:Hyatt Regency\, 1333 Bayshore Highway\, Burlingame\, CA\, 94010\, United States
GEO:37.5938015;-122.3653537
X-APPLE-STRUCTURED-LOCATION;VALUE=URI;X-ADDRESS=Hyatt Regency 1333 Bayshore Highway Burlingame CA 94010 United States;X-APPLE-RADIUS=500;X-TITLE=1333 Bayshore Highway:geo:-122.3653537,37.5938015
END:VEVENT
END:VCALENDAR