BEGIN:VCALENDAR
VERSION:2.0
PRODID:-//PAEI - ECPv5.16.4//NONSGML v1.0//EN
CALSCALE:GREGORIAN
METHOD:PUBLISH
X-ORIGINAL-URL:https://oldsite.paei.org
X-WR-CALDESC:Events for PAEI
REFRESH-INTERVAL;VALUE=DURATION:PT1H
X-Robots-Tag:noindex
X-PUBLISHED-TTL:PT1H
BEGIN:VTIMEZONE
TZID:America/Los_Angeles
BEGIN:DAYLIGHT
TZOFFSETFROM:-0800
TZOFFSETTO:-0700
TZNAME:PDT
DTSTART:20180311T100000
END:DAYLIGHT
BEGIN:STANDARD
TZOFFSETFROM:-0700
TZOFFSETTO:-0800
TZNAME:PST
DTSTART:20181104T090000
END:STANDARD
END:VTIMEZONE
BEGIN:VEVENT
DTSTART;TZID=America/Los_Angeles:20180815T180000
DTEND;TZID=America/Los_Angeles:20180815T200000
DTSTAMP:20260420T060555
CREATED:20180724T181525Z
LAST-MODIFIED:20180724T181525Z
UID:2065-1534356000-1534363200@oldsite.paei.org
SUMMARY:WIT-NC Hosts Summer Networking Extravaganza
DESCRIPTION:Summer Networking Extravaganza\nJoin us for a fabulous night of networking and wine! This annual event will feature: \n\nA selection of California wines and non-alcoholic beverages\, and small plates\nDoor prizes including: Amazon’s Echo\, Echo Show and Echo Dot\nFree registration for WIT-NC members! $15 for guests and nonmembers\nSponsor tables – participate in the Compliance Carnival and raffle for Door Prizes by stopping by and learning more about the wonderful sponsors including: Boomerang Carnets; Amber Road; MIIS; Berliner\, Corococran & Rowe LLP; Thomson Reuters; CompTIA and SAP\n\nVino Locale (rear outdoor patio)\, 431 Kipling Street\, Palo Alto\, CA 94301. Street parking is available and please reference the following link for available lots and garages: https://www.cityofpaloalto.org/gov/depts/pln/transit/parking/default.asp
URL:https://oldsite.paei.org/event/wit-nc-hosts-summer-networking-extravaganza/
LOCATION:Vino Locale\, 431 Kipling Street\, Palo Alto\, CA\, 94301\, United States
GEO:37.4483319;-122.1603909
X-APPLE-STRUCTURED-LOCATION;VALUE=URI;X-ADDRESS=Vino Locale 431 Kipling Street Palo Alto CA 94301 United States;X-APPLE-RADIUS=500;X-TITLE=431 Kipling Street:geo:-122.1603909,37.4483319
END:VEVENT
END:VCALENDAR